BEGIN:VCALENDAR
VERSION:2.0
PRODID:-//DigitalConstitutionalism.Org - ECPv5.2.0//NONSGML v1.0//EN
CALSCALE:GREGORIAN
METHOD:PUBLISH
X-WR-CALNAME:DigitalConstitutionalism.Org
X-ORIGINAL-URL:https://digitalconstitutionalism.org
X-WR-CALDESC:Events for DigitalConstitutionalism.Org
BEGIN:VTIMEZONE
TZID:UTC
BEGIN:STANDARD
TZOFFSETFROM:+0000
TZOFFSETTO:+0000
TZNAME:UTC
DTSTART:20260101T000000
END:STANDARD
END:VTIMEZONE
BEGIN:VEVENT
DTSTART;VALUE=DATE:20260420
DTEND;VALUE=DATE:20260425
DTSTAMP:20260419T172022
CREATED:20260223T120331Z
LAST-MODIFIED:20260223T120331Z
UID:12823-1776643200-1777075199@digitalconstitutionalism.org
SUMMARY:SWING – School on Internet Governance 2026
DESCRIPTION:20 April 2026 to 24 April 2026\, Winter School\n\n\n\n\nThe SWING – School on Internet Governance 2026 will take place in Bruges\, Belgium\, from 20 to 24 April 2026. Hosted by the United Nations University Institute on Comparative Regional Integration Studies (UNU-CRIS)\, SWING is designed for graduate students\, early-career researchers\, ICT professionals\, policymakers\, and anyone interested in the field. The program aims to strengthen participants’ understanding of the actors\, processes\, and policy challenges\, shaping the governance of the internet and digital technologies. Through a combination of expert-led lectures and interactive group work\, participants collaboratively analyse key governance issues and develop policy recommendations to be presented during the program’s final sessions.\n\n\n   \n\n \n\nHow to Apply\nTo apply\, applicants are asked to submit \n\nCurriculum Vitae (CV)\nCompleted application/registration form (template/model)\nCopy of a valid ID document (passport or national identity card)\nProof of payment of the participation fee (receipt/confirmation)\n\nby 27th February 2026. \n   \n2026 Theme: Digital Sovereignty \n\n\nThe 2026 edition will focus on Digital Sovereignty — a timely and fast-evolving concept at the crossroads of Internet governance\, geopolitics\, economics\, innovation\, and fundamental rights. Broadly speaking\, digital sovereignty concerns the ability of states\, regions\, organisations\, communities\, and individuals to make autonomous choices in the digital sphere: how data is generated\, stored\, accessed\, and governed; how critical infrastructures are built\, secured\, and maintained; how strategic technologies are developed and regulated; and how dependencies on external actors are managed. \nAcross the week\, participants will examine digital sovereignty both as a policy objective (resilience\, security\, competitiveness\, strategic autonomy) and as a normative challenge (openness and interoperability of the Internet\, human rights protections\, inclusive governance\, and international cooperation). Particular attention will be devoted to concrete domains where sovereignty claims are most visible — from cybersecurity and AI to semiconductors\, undersea cables\, and satellite infrastructures — and to the trade-offs that emerge between protection\, innovation\, and openness. \nLectures and seminars will be delivered by internationally renowned scholars and experts\, combining academic depth with policy relevance and practical insight. The programme also includes interactive group work throughout the week\, culminating in policy recommendations presented during the final sessions. \nFor further information about the School and registration\, please see the official website or contact Sophie Hoogenboom at shoogenboom@cris.unu.edu.
URL:https://digitalconstitutionalism.org/event/swing-school-on-internet-governance-2026/
CATEGORIES:Winter School
END:VEVENT
END:VCALENDAR